BEGIN:VCALENDAR
VERSION:2.0
PRODID:-//wp-events-plugin.com//7.2.3.1//EN
TZID:Europe/Vienna
X-WR-TIMEZONE:Europe/Vienna
BEGIN:VEVENT
UID:408@balancelife.at
DTSTART;TZID=Europe/Vienna:20270213T190000
DTEND;TZID=Europe/Vienna:20270213T230000
DTSTAMP:20260226T104908Z
URL:https://www.balancelife.at/events/valantinstag-parfum-workshop-party-w
 ien-geschenkidee-2027/
SUMMARY:Valentinstag Parfum Workshop und Party Wien 2027 | Dein eigener Duf
 t & Party Drinks | die Geschenkidee
DESCRIPTION:&#x1f49e\; Das Valentinstag Special 2027 &#x1f49e\;\nDu wolltes
 t schon immer dein eigenes individuelles Parfum?Dann ist unser Valentinsta
 g Parfum Workshop mit Party in Wien genau dein Erlebnis.\nEin Abend voller
  Düfte\, Kreativität und Genuss – kombiniert mit coolen Party Drinks u
 nd stilvoller\, entspannter Atmosphäre. \nAm Ende hältst du dein ganz pe
 rsönliches Parfum in den Händen – individuell\, einzigartig und nur f
 ür dich gemacht. \nEin Erlebnis\, das bleibt.\nWarum ein Parfum Workshop 
 mit Party?\nEin Duft ist mehr als ein Geruch.Er ist Erinnerung. Stimmung. 
 Persönlichkeit.\n\nWer sich selbst nicht zutraut den eigenen Duft bei uns
 eren umfangreichen Parfum Workshops zu komponieren\, hat jetzt die Möglic
 hkeit sich bei der Parfum Party das persönliche Parfum von unseren Spezia
 listen kreieren zu lassen. Unsere exklusive Location in Wien verwandelt si
 ch an diesem Abend in einen Tempel der Sinne. Tauche ein in eine Welt\, in
  der Genuss\, Duft und Musik miteinander verschmelzen. Und das Beste: Du n
 immst dein eigenes\, professionell abgefülltes Parfum mit nach Hause.\n\n
 Während dem Parfum Workshop mit Party kannst du erfrischende Drinks und k
 leine Snacks genießen. Dank der entspannten Beats wird dieser Abend zu ei
 nem Erlebnis für alle Sinne. Lass dich von Aromen verzaubern\, während d
 u einen ganz besonderen Abend mit uns erlebst. Ob alleine\, mit Freunden o
 der als Date-Night – diese Veranstaltung ist ein Muss für alle\, die da
 s Besondere lieben!\n\n\nDas erwartet dich beim Parfum Workshop in Wien\n&
 #x2714\; kurze Einführung in die Welt der Düfte&#x2714\; Durchriechen un
 serer hochwertigen Duftessenzen&#x2714\; Komposition deiner Rezeptur durch
  unsere Duft-Experten&#x2714\; Dein individuelles Parfum zum Mitnehmen&#x2
 714\; Party Drinks &amp\; entspannte Stimmung&#x2714\; Ein Abend voller Ge
 nuss &amp\; Inspiration\nDauer: ca. 2\,5 - 4 StundenOrt: Wien\nIdeal für 
 Teilnehmer:innen aus Wien\, Niederösterreich und dem Burgenland.\nEs ist 
 ein offener Abend. Während du auf die Erstellung deines persönlichen Duf
 tes wartest\, verbringe den Abend bei der Parfum Party. Die Parfum Erstell
 ung selbst dauert nach deiner Bewertung der Düfte etwa 15 bis 30 Minuten.
 \nDie Rezepturen werden von uns nacheinander erstellt. Bis dein ganz pers
 önlicher Duft fertig ist\, genieße einen angenehmen Abend unter Freunden
  bei coolen Drinks und exzellentem Sound.\n\n&nbsp\;\n\n\n\n[gallery size=
 "medium" columns="4" ids="8808\,8807\,8806\,8805\,8811\,8809\,8810\,8604\,
 8606\,8541\,8536\,8535"]\n\n\n\nFür wen ist dieser Workshop geeignet?\nUn
 ser Parfum Workshop ist perfekt für:\n\n\n 	Geburtstagsgeschenke\n 	Paare
  &amp\; Freundinnen-Abende\n 	Junggesellinnenabschiede (JGA)\n 	Kreative G
 enießer:innen\n 	Duftliebhaber:innen\n 	Erlebnis-Suchende\n 	Firmen &amp\
 ; Teamevents\n\nDu brauchst keine Vorkenntnisse – nur Lust auf ein beson
 deres Erlebnis.\nDieser Event ist ideal für alle Duftliebhaber\, die scho
 n immer von einem eigenen Parfum geträumt haben\, und zugleich eine groß
 artige Gelegenheit\, einen unvergesslichen Abend zu Zweit oder mit Freundi
 nnen und Freunden zu verbringen. Nimm am Ende des Abends dein eigenes\, in
 dividuell komponiertes\, persönliches Signature Parfum mit nach Hause.\n\
 n\nPerfekt als Geschenkidee &#x1f381\;\nDu suchst ein Erlebnis Geschenk in
  Wien\, das wirklich überrascht?\nMit unserem Gutschein für den Parfum W
 orkshop verschenkst du:\n\n\n 	gemeinsame Zeit\n 	Kreativität\n 	Genuss\n
  	Individualität\n 	und eine bleibende Erinnerung\n\nAlle Gutscheine sind
  auch als PDF erhältlich – ideal als Last-Minute-Geschenk.\n\nDer Ablau
 f des Abends\n\n 	Begrüßung &amp\; Einführung in die Welt der Düfte\n 
 	genieße Drinks und kleine Snacks\n 	Kennenlernen der Dufte\n 	Dufttests 
 &amp\; persönliche Duftanalyse\n 	Entwicklung deiner eigenen Rezeptur\n 	
 Feinschliff &amp\; Abfüllung deines Parfums\n 	Ausklang mit Drinks &amp\;
  Austausch\n\nEin Abend voller Inspiration – in entspannter Atmosphäre 
 mitten in Wien.\n\nHighlights\n\n 	Kreation deines ganz persönlichen Parf
 ums durch unserer Experten\n 	köstliche Drinks (alkoholisch oder alkoholf
 rei) je nach Ticket inklusive oder extra\n 	kleine Snacks\, die perfekt zu
 r entspannten Atmosphäre passen\n 	Chillige Sounds\, die für das passend
 e Ambiente sorgen\n 	Ein Abend voller Genuss\, Kreativität und unvergessl
 icher Momente\n\nWarum BalanceLife?\nAls Genuss- und Geschenke-Spezialist 
 in Wien verbinden wir:\n&#x2728\; Erlebnis &amp\; Expertise&#x2728\; Kreat
 ivität &amp\; Qualität&#x2728\; Wissen &amp\; Emotion\nUnsere Workshops 
 stehen für persönliche Betreuung\, hochwertige Inhaltsstoffe und eine At
 mosphäre\, in der du dich wohlfühlst.\nSeit vielen Jahren begeistern wir
  Duftliebhaber:innen\, Paare\, Gruppen und Firmen mit einzigartigen Erlebn
 is-Workshops.\n\nParfum selber machen – die Geschichte dahinter\nSchon i
 m alten Ägypten galten Düfte als Zeichen von Luxus und Individualität. 
 Heute steht Parfum für Persönlichkeit.\nBei uns bekommst du keinen Stand
 ardduft – sondern deine eigene Duftsignatur. Ein Parfum\, das deine Gesc
 hichte erzählt.\n\nDie Tickets Varianten - für jedem Geschmack etwas dab
 ei\nDas Parfum Workshop und Party Ticket Standard \nbeinhaltet einen chill
 ig duftigen Abend inklusive:\n&nbsp\;\n\n\n 	einem Flakon (30ml) deines ex
 klusiven\, eigenen Signature Parfums pro Person&nbsp\;\n 	einem Welcome Fr
 izzante oder Prosecco\n 	cooler Musik (aktuell\, 80er\, 90er\, Soul...)\n 
 	kleinen Snacks und Knabbereien\n 	Getränke können gerne bestellt werden
 \n\nDas Parfum Workshop und Party Ticket All Inklusive&nbsp\;\nbeinhaltet 
 einen chillig duftigen Abend inklusive:\n&nbsp\;\n\n\n 	einem Flakon (30ml
 ) deines exklusiven\, eigenen Signature Parfums pro Person&nbsp\;\n 	wähl
 e beliebig Drinks aus unserer Karte\n(alkoholisch oder alkoholfrei\, zB. H
 ugo\, Aperol Sprizz\, ausgewählte Cocktails...) pro Person\n 	cooler Musi
 k (aktuell\, 80er\, 90er\, Soul...)\n 	kleinen Snacks\n\nMaximale Teilnehm
 erzahl: 30 Personen\, minimale Teilnehmerzahl: 15 Personen\n\n\nHinweise\n
 Bitte beachte: datumsbezogene Workshop- und Event-Tickets können im Norma
 lfall nicht storniert oder auf andere Termine umgebucht werden. Da Tickets
  datumsgebunden vergeben werden\, hat der Gesetzgeber entschieden\, dass T
 ickets vom allgemeinen Rückgaberecht ausgenommen sind. Der Grund hierfür
  ist\, dass der Veranstalter sonst keine Planungssicherheit für Ihre Vera
 nstaltungen haben.\nEs ist allerdings möglich\, das Ticket auf eine ander
 e Person umzuschreiben. Dabei ist jedoch zu beachten\, dass diese Umschrei
 bung immer nur vom Veranstalter selbst durchgeführt werden darf und somit
  sein Einverständnis benötigt.&nbsp\;\nEine Bestellung von datumsbezogen
 en Workshop-Tickets (einerlei ob per Telefon\, Internet oder persönlich) 
 ist verbindlich und kann nicht storniert werden. Terminverschiebungen sind
  üblicher Weise in Kulanz (bis spätestens 6 Werktage vor dem gebuchten T
 ermin) nach Rückfrage möglich.\nBitte beachte: Für Tickets besteht kein
  Rücktrittsrecht gem. § 18 (1) Z10 FAGG.\nHäufige Fragen (FAQ)\nWie lan
 ge dauert die Party / der Workshop?Ca. 2\,5 - 4 Stunden.\nMuss ich Vorkenn
 tnisse haben?Nein\, wir begleiten dich Schritt für Schritt.\nKann ich ein
 en Gutschein kaufen?Ja\, du kannst einen Wert- oder Erlebnisgutschein erwe
 rben – auch als PDF.\nIst der Workshop für Gruppen geeignet?Ja\, perfek
 t für JGA\, Freundinnen-Abende oder Firmen-Teamevents.\nWie viele Teilneh
 mer:innen sind dabei?Die Gruppengröße auf maximal 30 an unserer Location
  begrenzt. Bei Firmenevents können mehr Personen teilnehmen.\n\n
ATTACH;FMTTYPE=image/jpeg:https://www.balancelife.at/wp-content/uploads/20
 24/12/Beitrag-und-Video-Valentins-Parfum-Party-V2-1.jpg
CATEGORIES:Workshop,Seminar,Veranstaltung
LOCATION:Salon Alserbach\, Alserbachstraße 8/20\, Wien\, 1090\, Österreic
 h
X-APPLE-STRUCTURED-LOCATION;VALUE=URI;X-ADDRESS=Alserbachstraße 8/20\, Wie
 n\, 1090\, Österreich;X-APPLE-RADIUS=100;X-TITLE=Salon Alserbach:geo:0,0
END:VEVENT
BEGIN:VTIMEZONE
TZID:Europe/Vienna
X-LIC-LOCATION:Europe/Vienna
BEGIN:STANDARD
DTSTART:20261025T020000
TZOFFSETFROM:+0200
TZOFFSETTO:+0100
TZNAME:CET
END:STANDARD
END:VTIMEZONE
END:VCALENDAR